BEGIN:VCALENDAR
VERSION:2.0
PRODID:-//hacksw/handcal//NONSGML v1.0//EN
BEGIN:VEVENT
SUMMARY:OTM du 28 et 29 mars 2026
UID:2530480f-24ba-4f1a-bb23-d8a840554855
DTSTART:20260328T070000Z
DTEND:20260329T130000Z
LOCATION:Localisation   
CATEGORIES:Sportif
STATUS:
DESCRIPTION:<p><a
 href="https://www.quiquoi.fr/fr/evenements/DA2vWjpLpYZ8omqZBE01">https://www.quiquoi.fr/fr/evenements/DA2vWjpLpYZ8omqZBE01</a></p>
 
 <p> </p>
 
 <section>
 <p>La
 presence des suppleants, n'est pas obligatoire, mais ils doivent etre
 disponible rapidement, en cas d'absence des joueurs initialement
 prevus.</p>
 
 <p> </p>
 
 <p>Les remplacements sont a la charge des
 joueurs absents, soit avec le suppleant, soit avec un autre joueur si
 le suppleant ne peut pas non plus. Merci de m'informer de chaque
 changement.</p>
 </section>
URL;VALUE=URI:https://www.basket-montbrison.fr/evenements/2026/03/28/otm-du-28-et-29-mars-2026-2433905
END:VEVENT
END:VCALENDAR
